BEGIN:VCALENDAR
CALSCALE:GREGORIAN
PRODID:iCalendar-Ruby
VERSION:2.0
BEGIN:VEVENT
DTEND:20260423T154500
DTSTAMP:20260417T162026
DTSTART:20260423T141500
CLASS:PUBLIC
LOCATION:Online
SEQUENCE:0
SUMMARY:SCRIPTS Forum Summer Lecture #1 | @Grok Is this True? Performative 
 Fact-Checking During Contested Events in Polarised Digital Spaces
UID:158054393@/www.scripts-berlin.eu
URL:https://www.scripts-berlin.eu/general-events/forum/20260423-forum-lectu
 re-series-1.html
END:VEVENT
BEGIN:VEVENT
DTEND:20260507T154500
DTSTAMP:20260417T092936
DTSTART:20260507T141500
CLASS:PUBLIC
LOCATION:Online
SEQUENCE:0
SUMMARY:SCRIPTS Forum Summer Lecture #2 | Geopolitical Struggles of the Eme
 rging Global Tech Order
UID:158055229@/www.scripts-berlin.eu
URL:https://www.scripts-berlin.eu/general-events/forum/20260507-forum-lectu
 re-series-2.html
END:VEVENT
BEGIN:VEVENT
DTEND:20260508T180000
DTSTAMP:20260421T132205
DTSTART:20260508T150000
CLASS:PUBLIC
LOCATION:Hertie School\n Friedrichstraße 180\, Room 2.34\n 10117 Berlin
SEQUENCE:0
SUMMARY:SCRIPTS Forum | Contested Futures: Scenario Workshop on AI and Libe
 ral Societies
UID:158167228@/www.scripts-berlin.eu
URL:https://www.scripts-berlin.eu/general-events/forum/20260508-otherland-w
 orkshop.html
END:VEVENT
BEGIN:VEVENT
DTEND:20260509T203000
DTSTAMP:20260417T164615
DTSTART:20260509T190000
CLASS:PUBLIC
LOCATION:Otherland Bookstore\n Bergmannstraße 25\, D-10961 Berlin\n 
SEQUENCE:0
SUMMARY:SCRIPTS Forum | Four for the Future: AI and the Future of Liberal S
 ocieties
UID:158103268@/www.scripts-berlin.eu
URL:https://www.scripts-berlin.eu/general-events/forum/20260509-otherland-f
 our-for-the-future.html
END:VEVENT
BEGIN:VEVENT
DTEND:20260529T193000
DTSTAMP:20260416T120752
DTSTART:20260529T183000
CLASS:PUBLIC
LOCATION:Humboldt Labor im Humboldt Forum\n Schloßplatz\n 10178 Berlin
SEQUENCE:0
SUMMARY:Short Talks | Democracy Between Freedom and Algorithms #1 – Algorit
 hmic Power: Governing in the Age of Artificial Intelligence
UID:157105711@/www.scripts-berlin.eu
URL:https://www.scripts-berlin.eu/general-events/forum/20260529-short-talks
 -humboldt-lab.html
END:VEVENT
BEGIN:VEVENT
DESCRIPTION:   This event is part of SCRIPTS’ participation in the Long Nig
 ht of the Sciences (LNDW).   
DTSTAMP:20260417T140640
DTSTART:20260606T170000
CLASS:PUBLIC
LOCATION:Freie Universität Berlin\n Rostlaube\, Hörsaal 2
SEQUENCE:0
SUMMARY:Panel Discussion: Real or AI? Deepfakes\, Fake News and Digital Man
 ipulation
UID:158097984@/www.scripts-berlin.eu
URL:https://www.scripts-berlin.eu/general-events/forum/20260606-LNDW-KI.htm
 l
END:VEVENT
BEGIN:VEVENT
DTEND:20260611T154500
DTSTAMP:20260416T121415
DTSTART:20260611T141500
CLASS:PUBLIC
LOCATION:Online
SEQUENCE:0
SUMMARY:SCRIPTS Forum Summer Lecture #3 | Public Opinion on Military Uses o
 f AI: Technology Beliefs\, Moral Boundaries\, and Security Contexts
UID:158057318@/www.scripts-berlin.eu
URL:https://www.scripts-berlin.eu/general-events/forum/20260611-forum-lectu
 re-series-3.html
END:VEVENT
BEGIN:VEVENT
DTEND:20260624T154500
DTSTAMP:20260416T120658
DTSTART:20260624T141500
CLASS:PUBLIC
LOCATION:Hybrid talk – online and also at FU\, Fabeckstraße 23/25\, Room -1
 .2009
SEQUENCE:0
SUMMARY:SCRIPTS Forum Summer Lecture #4 | How Partisanship Affects Preferen
 ces for Large Language Model Output
UID:158063625@/www.scripts-berlin.eu
URL:https://www.scripts-berlin.eu/general-events/forum/20260624-forum-lectu
 re-series-4.html
END:VEVENT
END:VCALENDAR
