BEGIN:VCALENDAR
CALSCALE:GREGORIAN
PRODID:iCalendar-Ruby
VERSION:2.0
BEGIN:VEVENT
DTEND:20260611T154500
DTSTAMP:20260416T121400
DTSTART:20260611T141500
CLASS:PUBLIC
LOCATION:Online
SEQUENCE:0
SUMMARY:SCRIPTS Forum Summer Lecture #3 | Public Opinion on Military Uses o
 f AI: Technology Beliefs\, Moral Boundaries\, and Security Contexts
UID:158057318@/www.scripts-berlin.eu
URL:https://www.scripts-berlin.eu/general-events/forum/20260611-forum-lectu
 re-series-3.html
END:VEVENT
END:VCALENDAR
