BEGIN:VCALENDAR
CALSCALE:GREGORIAN
PRODID:iCalendar-Ruby
VERSION:2.0
BEGIN:VEVENT
DTEND:20260509T203000
DTSTAMP:20260417T164600
DTSTART:20260509T190000
CLASS:PUBLIC
LOCATION:Otherland Bookstore\n Bergmannstraße 25\, D-10961 Berlin\n 
SEQUENCE:0
SUMMARY:SCRIPTS Forum | Four for the Future: AI and the Future of Liberal S
 ocieties
UID:158103268@/www.scripts-berlin.eu
URL:https://www.scripts-berlin.eu/general-events/forum/20260509-otherland-f
 our-for-the-future.html
END:VEVENT
END:VCALENDAR
